BEGIN:VCALENDAR
VERSION:2.0
PRODID:-//Dancers&#039; Group - ECPv6.15.20//NONSGML v1.0//EN
CALSCALE:GREGORIAN
METHOD:PUBLISH
X-WR-CALNAME:Dancers&#039; Group
X-ORIGINAL-URL:https://dancersgroup.org
X-WR-CALDESC:Events for Dancers&#039; Group
REFRESH-INTERVAL;VALUE=DURATION:PT1H
X-Robots-Tag:noindex
X-PUBLISHED-TTL:PT1H
BEGIN:VTIMEZONE
TZID:America/Los_Angeles
BEGIN:DAYLIGHT
TZOFFSETFROM:-0800
TZOFFSETTO:-0700
TZNAME:PDT
DTSTART:20250309T100000
END:DAYLIGHT
BEGIN:STANDARD
TZOFFSETFROM:-0700
TZOFFSETTO:-0800
TZNAME:PST
DTSTART:20251102T090000
END:STANDARD
BEGIN:DAYLIGHT
TZOFFSETFROM:-0800
TZOFFSETTO:-0700
TZNAME:PDT
DTSTART:20260308T100000
END:DAYLIGHT
BEGIN:STANDARD
TZOFFSETFROM:-0700
TZOFFSETTO:-0800
TZNAME:PST
DTSTART:20261101T090000
END:STANDARD
BEGIN:DAYLIGHT
TZOFFSETFROM:-0800
TZOFFSETTO:-0700
TZNAME:PDT
DTSTART:20270314T100000
END:DAYLIGHT
BEGIN:STANDARD
TZOFFSETFROM:-0700
TZOFFSETTO:-0800
TZNAME:PST
DTSTART:20271107T090000
END:STANDARD
END:VTIMEZONE
BEGIN:VEVENT
DTSTART;TZID=America/Los_Angeles:20260427T183000
DTEND;TZID=America/Los_Angeles:20260427T193000
DTSTAMP:20260424T051449
CREATED:20260217T184300Z
LAST-MODIFIED:20260217T184300Z
UID:10027944-1777314600-1777318200@dancersgroup.org
SUMMARY:Bhangra Fundamentals
DESCRIPTION:This class focuses on the FUN in fundamentals! Designed for all levels\,  all ages—no prior experience needed—you’ll build confidence in the basic footwork\, arm movements\, and body rhythms that make up Bhangra. More than just a dance class\, this is a welcoming\, judgment-free space to try something new\, immerse yourself in Punjabi culture\, and connect with new friends and community. Excited to dance with you! \nStay connected by following @rootedbhangra on Instagram. \nShare:
URL:https://dancersgroup.org/calendar/bhangra-fundamentals/2026-04-27/
LOCATION:Rhythmix Cultural Works\, 2513 Blanding Ave\, Alameda\, CA\, 94501\, United States
CATEGORIES:Classes/Workshops
ATTACH;FMTTYPE=image/png:https://dancersgroup.org/wp-content/uploads/2026/02/Untitled-design-1.png
ORGANIZER;CN="Vina Verman":MAILTO:Rootedbhangra@gmail.com
END:VEVENT
END:VCALENDAR