BEGIN:VCALENDAR
VERSION:2.0
PRODID:-//Dancers&#039; Group - ECPv6.15.20//NONSGML v1.0//EN
CALSCALE:GREGORIAN
METHOD:PUBLISH
X-WR-CALNAME:Dancers&#039; Group
X-ORIGINAL-URL:https://dancersgroup.org
X-WR-CALDESC:Events for Dancers&#039; Group
REFRESH-INTERVAL;VALUE=DURATION:PT1H
X-Robots-Tag:noindex
X-PUBLISHED-TTL:PT1H
BEGIN:VTIMEZONE
TZID:America/Los_Angeles
BEGIN:DAYLIGHT
TZOFFSETFROM:-0800
TZOFFSETTO:-0700
TZNAME:PDT
DTSTART:20250309T100000
END:DAYLIGHT
BEGIN:STANDARD
TZOFFSETFROM:-0700
TZOFFSETTO:-0800
TZNAME:PST
DTSTART:20251102T090000
END:STANDARD
BEGIN:DAYLIGHT
TZOFFSETFROM:-0800
TZOFFSETTO:-0700
TZNAME:PDT
DTSTART:20260308T100000
END:DAYLIGHT
BEGIN:STANDARD
TZOFFSETFROM:-0700
TZOFFSETTO:-0800
TZNAME:PST
DTSTART:20261101T090000
END:STANDARD
BEGIN:DAYLIGHT
TZOFFSETFROM:-0800
TZOFFSETTO:-0700
TZNAME:PDT
DTSTART:20270314T100000
END:DAYLIGHT
BEGIN:STANDARD
TZOFFSETFROM:-0700
TZOFFSETTO:-0800
TZNAME:PST
DTSTART:20271107T090000
END:STANDARD
END:VTIMEZONE
BEGIN:VEVENT
DTSTART;TZID=America/Los_Angeles:20260503T130000
DTEND;TZID=America/Los_Angeles:20260503T143000
DTSTAMP:20260424T064213
CREATED:20260413T185801Z
LAST-MODIFIED:20260413T185801Z
UID:10028365-1777813200-1777818600@dancersgroup.org
SUMMARY:Dance-A-Rama 2026
DESCRIPTION:27th Annual Dance-a-Rama! Come join us for an afternoon of LIVE dance performances at beautiful Western Sky studio in Berkeley. Eight talented East Bay choreographers will show eight intriguing dances\, from Modern Dance to Belly Dance\, from solos to quintets\, from works in process to new dances to revivals. This year we will have two showings of the same works to allow more people to attend. Sunday\, May 3 at 1pm and 4pm. Admission is FREE. \nShare:
URL:https://dancersgroup.org/calendar/dance-a-rama-2026-3/2026-05-03/1/
LOCATION:Western Sky Studio\, 2525 Eighth St\, #14\, Berkeley\, CA\, 94710\, United States
CATEGORIES:Performances,Free
ATTACH;FMTTYPE=image/jpeg:https://dancersgroup.org/wp-content/uploads/2026/04/dar-2026-photo.jpeg
END:VEVENT
BEGIN:VEVENT
DTSTART;TZID=America/Los_Angeles:20260503T160000
DTEND;TZID=America/Los_Angeles:20260503T173000
DTSTAMP:20260424T064213
CREATED:20260413T185801Z
LAST-MODIFIED:20260413T185801Z
UID:10028366-1777824000-1777829400@dancersgroup.org
SUMMARY:Dance-A-Rama 2026
DESCRIPTION:27th Annual Dance-a-Rama! Come join us for an afternoon of LIVE dance performances at beautiful Western Sky studio in Berkeley. Eight talented East Bay choreographers will show eight intriguing dances\, from Modern Dance to Belly Dance\, from solos to quintets\, from works in process to new dances to revivals. This year we will have two showings of the same works to allow more people to attend. Sunday\, May 3 at 1pm and 4pm. Admission is FREE. \nShare:
URL:https://dancersgroup.org/calendar/dance-a-rama-2026-3/2026-05-03/2/
LOCATION:Western Sky Studio\, 2525 Eighth St\, #14\, Berkeley\, CA\, 94710\, United States
CATEGORIES:Performances,Free
ATTACH;FMTTYPE=image/jpeg:https://dancersgroup.org/wp-content/uploads/2026/04/dar-2026-photo.jpeg
END:VEVENT
END:VCALENDAR