BEGIN:VCALENDAR
VERSION:2.0
PRODID:-//Dancers&#039; Group - ECPv6.15.20//NONSGML v1.0//EN
CALSCALE:GREGORIAN
METHOD:PUBLISH
X-WR-CALNAME:Dancers&#039; Group
X-ORIGINAL-URL:https://dancersgroup.org
X-WR-CALDESC:Events for Dancers&#039; Group
REFRESH-INTERVAL;VALUE=DURATION:PT1H
X-Robots-Tag:noindex
X-PUBLISHED-TTL:PT1H
BEGIN:VTIMEZONE
TZID:America/Los_Angeles
BEGIN:DAYLIGHT
TZOFFSETFROM:-0800
TZOFFSETTO:-0700
TZNAME:PDT
DTSTART:20250309T100000
END:DAYLIGHT
BEGIN:STANDARD
TZOFFSETFROM:-0700
TZOFFSETTO:-0800
TZNAME:PST
DTSTART:20251102T090000
END:STANDARD
BEGIN:DAYLIGHT
TZOFFSETFROM:-0800
TZOFFSETTO:-0700
TZNAME:PDT
DTSTART:20260308T100000
END:DAYLIGHT
BEGIN:STANDARD
TZOFFSETFROM:-0700
TZOFFSETTO:-0800
TZNAME:PST
DTSTART:20261101T090000
END:STANDARD
BEGIN:DAYLIGHT
TZOFFSETFROM:-0800
TZOFFSETTO:-0700
TZNAME:PDT
DTSTART:20270314T100000
END:DAYLIGHT
BEGIN:STANDARD
TZOFFSETFROM:-0700
TZOFFSETTO:-0800
TZNAME:PST
DTSTART:20271107T090000
END:STANDARD
END:VTIMEZONE
BEGIN:VEVENT
DTSTART;TZID=America/Los_Angeles:20260430T200000
DTEND;TZID=America/Los_Angeles:20260430T220000
DTSTAMP:20260424T065936
CREATED:20260421T195118Z
LAST-MODIFIED:20260421T195118Z
UID:10028439-1777579200-1777586400@dancersgroup.org
SUMMARY:USF Performing Arts and Social Justice 25th Anniversary Showcase
DESCRIPTION:Celebrate 25 years of Performing Arts and Social Justice at USF! We honor our legacy and the transformative power of the arts through live performances from our dance\, music\, and theater programs. The PASJ 25th Anniversary showcase will also include a new piece by Ann Getty Institute Visiting Artist Eric Garcia created with the US community. \n\nShare:
URL:https://dancersgroup.org/calendar/usf-performing-arts-and-social-justice-25th-anniversary-showcase-2/2026-04-30/
LOCATION:Studio Theater on Lone Mountain University of San Francisco\, 2800 Turk Blvd.\, San Francisco\, CA\, 94117-2721\, United States
CATEGORIES:Performances,Free
ATTACH;FMTTYPE=image/jpeg:https://dancersgroup.org/wp-content/uploads/2026/04/PASJ25-1.jpg
END:VEVENT
BEGIN:VEVENT
DTSTART;TZID=America/Los_Angeles:20260501T200000
DTEND;TZID=America/Los_Angeles:20260501T220000
DTSTAMP:20260424T065936
CREATED:20260421T195118Z
LAST-MODIFIED:20260421T195118Z
UID:10028440-1777665600-1777672800@dancersgroup.org
SUMMARY:USF Performing Arts and Social Justice 25th Anniversary Showcase
DESCRIPTION:Celebrate 25 years of Performing Arts and Social Justice at USF! We honor our legacy and the transformative power of the arts through live performances from our dance\, music\, and theater programs. The PASJ 25th Anniversary showcase will also include a new piece by Ann Getty Institute Visiting Artist Eric Garcia created with the US community. \n\nShare:
URL:https://dancersgroup.org/calendar/usf-performing-arts-and-social-justice-25th-anniversary-showcase-2/2026-05-01/
LOCATION:Studio Theater on Lone Mountain University of San Francisco\, 2800 Turk Blvd.\, San Francisco\, CA\, 94117-2721\, United States
CATEGORIES:Performances,Free
ATTACH;FMTTYPE=image/jpeg:https://dancersgroup.org/wp-content/uploads/2026/04/PASJ25-1.jpg
END:VEVENT
BEGIN:VEVENT
DTSTART;TZID=America/Los_Angeles:20260502T200000
DTEND;TZID=America/Los_Angeles:20260502T220000
DTSTAMP:20260424T065936
CREATED:20260421T195118Z
LAST-MODIFIED:20260421T195118Z
UID:10028441-1777752000-1777759200@dancersgroup.org
SUMMARY:USF Performing Arts and Social Justice 25th Anniversary Showcase
DESCRIPTION:Celebrate 25 years of Performing Arts and Social Justice at USF! We honor our legacy and the transformative power of the arts through live performances from our dance\, music\, and theater programs. The PASJ 25th Anniversary showcase will also include a new piece by Ann Getty Institute Visiting Artist Eric Garcia created with the US community. \n\nShare:
URL:https://dancersgroup.org/calendar/usf-performing-arts-and-social-justice-25th-anniversary-showcase-2/2026-05-02/
LOCATION:Studio Theater on Lone Mountain University of San Francisco\, 2800 Turk Blvd.\, San Francisco\, CA\, 94117-2721\, United States
CATEGORIES:Performances,Free
ATTACH;FMTTYPE=image/jpeg:https://dancersgroup.org/wp-content/uploads/2026/04/PASJ25-1.jpg
END:VEVENT
BEGIN:VEVENT
DTSTART;TZID=America/Los_Angeles:20260503T150000
DTEND;TZID=America/Los_Angeles:20260503T170000
DTSTAMP:20260424T065936
CREATED:20260421T195118Z
LAST-MODIFIED:20260421T195118Z
UID:10028442-1777820400-1777827600@dancersgroup.org
SUMMARY:USF Performing Arts and Social Justice 25th Anniversary Showcase
DESCRIPTION:Celebrate 25 years of Performing Arts and Social Justice at USF! We honor our legacy and the transformative power of the arts through live performances from our dance\, music\, and theater programs. The PASJ 25th Anniversary showcase will also include a new piece by Ann Getty Institute Visiting Artist Eric Garcia created with the US community. \n\nShare:
URL:https://dancersgroup.org/calendar/usf-performing-arts-and-social-justice-25th-anniversary-showcase-2/2026-05-03/
LOCATION:Studio Theater on Lone Mountain University of San Francisco\, 2800 Turk Blvd.\, San Francisco\, CA\, 94117-2721\, United States
CATEGORIES:Performances,Free
ATTACH;FMTTYPE=image/jpeg:https://dancersgroup.org/wp-content/uploads/2026/04/PASJ25-1.jpg
END:VEVENT
END:VCALENDAR