BEGIN:VCALENDAR
VERSION:2.0
PRODID:-//Dancers&#039; Group - ECPv6.15.20//NONSGML v1.0//EN
CALSCALE:GREGORIAN
METHOD:PUBLISH
X-ORIGINAL-URL:https://dancersgroup.org
X-WR-CALDESC:Events for Dancers&#039; Group
REFRESH-INTERVAL;VALUE=DURATION:PT1H
X-Robots-Tag:noindex
X-PUBLISHED-TTL:PT1H
BEGIN:VTIMEZONE
TZID:America/Los_Angeles
BEGIN:DAYLIGHT
TZOFFSETFROM:-0800
TZOFFSETTO:-0700
TZNAME:PDT
DTSTART:20250309T100000
END:DAYLIGHT
BEGIN:STANDARD
TZOFFSETFROM:-0700
TZOFFSETTO:-0800
TZNAME:PST
DTSTART:20251102T090000
END:STANDARD
BEGIN:DAYLIGHT
TZOFFSETFROM:-0800
TZOFFSETTO:-0700
TZNAME:PDT
DTSTART:20260308T100000
END:DAYLIGHT
BEGIN:STANDARD
TZOFFSETFROM:-0700
TZOFFSETTO:-0800
TZNAME:PST
DTSTART:20261101T090000
END:STANDARD
BEGIN:DAYLIGHT
TZOFFSETFROM:-0800
TZOFFSETTO:-0700
TZNAME:PDT
DTSTART:20270314T100000
END:DAYLIGHT
BEGIN:STANDARD
TZOFFSETFROM:-0700
TZOFFSETTO:-0800
TZNAME:PST
DTSTART:20271107T090000
END:STANDARD
END:VTIMEZONE
BEGIN:VEVENT
DTSTART;TZID=America/Los_Angeles:20260430T090000
DTEND;TZID=America/Los_Angeles:20260430T100000
DTSTAMP:20260422T040345
CREATED:20260409T211250Z
LAST-MODIFIED:20260419T025220Z
UID:10028342-1777539600-1777543200@dancersgroup.org
SUMMARY:Nia: Vitality Dance
DESCRIPTION:Nia is a joyful flowing blend of dance\, gentle martial arts and yoga. Nia increases flexibility\, agility\, mobility\, stability\, strength and healing while decreasing stress and imbalances in the body. Principle #1 is Joy of Movement and expressing Your Body’s Way is always encouraged! Come experience the benefits of Nia for yourself\, you’re gonna love it!
URL:https://dancersgroup.org/calendar/nia-vitality-dance-2/
LOCATION:berkeley yoga center\, 2121 bonar st\, berkeley\, ca\, 94702\, United States
CATEGORIES:Classes/Workshops
ATTACH;FMTTYPE=image/jpeg:https://dancersgroup.org/wp-content/uploads/2026/04/IMG_2498-1.jpeg
ORGANIZER;CN="Laura Geduldig":MAILTO:laura@vitalitycoaching.life
END:VEVENT
BEGIN:VEVENT
DTSTART;TZID=America/Los_Angeles:20260501T090000
DTEND;TZID=America/Los_Angeles:20260501T100000
DTSTAMP:20260422T040345
CREATED:20260420T160353Z
LAST-MODIFIED:20260420T160353Z
UID:10028425-1777626000-1777629600@dancersgroup.org
SUMMARY:Nia: Vitality Dance OUTSIDE
DESCRIPTION:Nia is a joyful\, flowing blend of dance\, gentle martial arts\, and yoga. Nia increases flexibility\, agility\, mobility\, stability\, strength\, and healing while decreasing stress and imbalances in the body. Principle #1 is Joy of Movement and expressing Your Body’s Way is always encouraged! THIS Nia class is unique because it will be taught OUTSIDE. Come experience the benefits of Nia while ALSO being under the blue sky\, feeling the breeze on your skin\, breathing in the fresh outside air\, you’re gonna love it!
URL:https://dancersgroup.org/calendar/nia-vitality-dance-outside/
LOCATION:Shepard’s Canyon Park\, Oakland\, Shepards Canyon Park\, 5900 Shepherd Canyon Rd\, Oakland CA 94611 *this is the address for the fire station that is next door*\, Oakland\, 94611\, United States
CATEGORIES:Classes/Workshops
ATTACH;FMTTYPE=image/jpeg:https://dancersgroup.org/wp-content/uploads/2026/04/Laura-Nia-Photo.jpeg
ORGANIZER;CN="Laura Geduldig":MAILTO:laura@vitalitycoaching.life
END:VEVENT
END:VCALENDAR