BEGIN:VCALENDAR
VERSION:2.0
PRODID:-//Dancers&#039; Group - ECPv6.15.20//NONSGML v1.0//EN
CALSCALE:GREGORIAN
METHOD:PUBLISH
X-WR-CALNAME:Dancers&#039; Group
X-ORIGINAL-URL:https://dancersgroup.org
X-WR-CALDESC:Events for Dancers&#039; Group
REFRESH-INTERVAL;VALUE=DURATION:PT1H
X-Robots-Tag:noindex
X-PUBLISHED-TTL:PT1H
BEGIN:VTIMEZONE
TZID:America/Los_Angeles
BEGIN:DAYLIGHT
TZOFFSETFROM:-0800
TZOFFSETTO:-0700
TZNAME:PDT
DTSTART:20250309T100000
END:DAYLIGHT
BEGIN:STANDARD
TZOFFSETFROM:-0700
TZOFFSETTO:-0800
TZNAME:PST
DTSTART:20251102T090000
END:STANDARD
BEGIN:DAYLIGHT
TZOFFSETFROM:-0800
TZOFFSETTO:-0700
TZNAME:PDT
DTSTART:20260308T100000
END:DAYLIGHT
BEGIN:STANDARD
TZOFFSETFROM:-0700
TZOFFSETTO:-0800
TZNAME:PST
DTSTART:20261101T090000
END:STANDARD
BEGIN:DAYLIGHT
TZOFFSETFROM:-0800
TZOFFSETTO:-0700
TZNAME:PDT
DTSTART:20270314T100000
END:DAYLIGHT
BEGIN:STANDARD
TZOFFSETFROM:-0700
TZOFFSETTO:-0800
TZNAME:PST
DTSTART:20271107T090000
END:STANDARD
END:VTIMEZONE
BEGIN:VEVENT
DTSTART;TZID=America/Los_Angeles:20260426T160000
DTEND;TZID=America/Los_Angeles:20260426T183000
DTSTAMP:20260422T021104
CREATED:20260414T174911Z
LAST-MODIFIED:20260421T194228Z
UID:10028375-1777219200-1777228200@dancersgroup.org
SUMMARY:"Dvaita-Advaita" - Kathak & Bharatanatyam Jugalbandi Live Orchestra
DESCRIPTION:“Dvaita–Advaita: Two Paths\, One Truth\,” a Bharatanatyam & Kathak jugalbandi that blossoms from years of sadhana\, friendship\, and love for the art.\n\nChoreographed and performed by Shambhavi Dandekar and Jyotsna Vaidee\, this work is a conversation of souls. Through rhythm\, stillness\, storytelling\, and silence\, they explore the beautiful tension between duality and oneness… between you and I\, form and formless\, self and self-realized. \nA live orchestra that brings together the musical worlds of the North and South\, creating a soundscape as rich and interconnected as the theme itself.
URL:https://dancersgroup.org/calendar/dvaita-advaita-kathak-bharatanatyam-jugalbandi-live-orchestra/
LOCATION:Cubberley Theater\, 4120 Middlefield Rd\, Palo Alto\, CA\, 94306\, United States
CATEGORIES:Performances
ATTACH;FMTTYPE=image/jpeg:https://dancersgroup.org/wp-content/uploads/2026/04/IMG-20260413-WA0007.jpg
ORGANIZER;CN="Samudra Dance Creations":MAILTO:jyothuv@gmail.com
END:VEVENT
END:VCALENDAR