BEGIN:VCALENDAR
VERSION:2.0
PRODID:-//Dancers&#039; Group - ECPv6.15.20//NONSGML v1.0//EN
CALSCALE:GREGORIAN
METHOD:PUBLISH
X-ORIGINAL-URL:https://dancersgroup.org
X-WR-CALDESC:Events for Dancers&#039; Group
REFRESH-INTERVAL;VALUE=DURATION:PT1H
X-Robots-Tag:noindex
X-PUBLISHED-TTL:PT1H
BEGIN:VTIMEZONE
TZID:America/Los_Angeles
BEGIN:DAYLIGHT
TZOFFSETFROM:-0800
TZOFFSETTO:-0700
TZNAME:PDT
DTSTART:20250309T100000
END:DAYLIGHT
BEGIN:STANDARD
TZOFFSETFROM:-0700
TZOFFSETTO:-0800
TZNAME:PST
DTSTART:20251102T090000
END:STANDARD
BEGIN:DAYLIGHT
TZOFFSETFROM:-0800
TZOFFSETTO:-0700
TZNAME:PDT
DTSTART:20260308T100000
END:DAYLIGHT
BEGIN:STANDARD
TZOFFSETFROM:-0700
TZOFFSETTO:-0800
TZNAME:PST
DTSTART:20261101T090000
END:STANDARD
BEGIN:DAYLIGHT
TZOFFSETFROM:-0800
TZOFFSETTO:-0700
TZNAME:PDT
DTSTART:20270314T100000
END:DAYLIGHT
BEGIN:STANDARD
TZOFFSETFROM:-0700
TZOFFSETTO:-0800
TZNAME:PST
DTSTART:20271107T090000
END:STANDARD
END:VTIMEZONE
BEGIN:VEVENT
DTSTART;TZID=America/Los_Angeles:20260425T130000
DTEND;TZID=America/Los_Angeles:20260425T150000
DTSTAMP:20260424T040236
CREATED:20260309T173142Z
LAST-MODIFIED:20260309T173142Z
UID:10028039-1777122000-1777129200@dancersgroup.org
SUMMARY:Por la Luz de la Luna: A Mexican Ballet
DESCRIPTION:Blending classical ballet with folklórico traditions\, Por la Luz de la Luna celebrates the beauty and richness of Mexican heritage while honoring the experiences of Mexican Americans. This is a story of identity\, courage\, and family\, shining a light on the enduring power of traditions passed from one generation to the next. Por la Luz de la Luna brings a fictional account of Jovita Valdovinos’ story to life\, weaving history\, mythology\, and family legacy into a powerful theatrical experience while celebrating her heroism.
URL:https://dancersgroup.org/calendar/por-la-luz-de-la-luna-a-mexican-ballet/2026-04-25/
LOCATION:Sebastiani Theatre\, 476 1st St E\, Sonoma\, CA\, 95476\, United States
CATEGORIES:Performances
ATTACH;FMTTYPE=image/jpeg:https://dancersgroup.org/wp-content/uploads/2026/03/LunaEng.jpg
ORGANIZER;CN="Sonoma Conservatory of Dance":MAILTO:info@sonomaconservatoryofdance.org
END:VEVENT
BEGIN:VEVENT
DTSTART;TZID=America/Los_Angeles:20260426T130000
DTEND;TZID=America/Los_Angeles:20260426T150000
DTSTAMP:20260424T040236
CREATED:20260309T173142Z
LAST-MODIFIED:20260309T173142Z
UID:10028040-1777208400-1777215600@dancersgroup.org
SUMMARY:Por la Luz de la Luna: A Mexican Ballet
DESCRIPTION:Blending classical ballet with folklórico traditions\, Por la Luz de la Luna celebrates the beauty and richness of Mexican heritage while honoring the experiences of Mexican Americans. This is a story of identity\, courage\, and family\, shining a light on the enduring power of traditions passed from one generation to the next. Por la Luz de la Luna brings a fictional account of Jovita Valdovinos’ story to life\, weaving history\, mythology\, and family legacy into a powerful theatrical experience while celebrating her heroism.
URL:https://dancersgroup.org/calendar/por-la-luz-de-la-luna-a-mexican-ballet/2026-04-26/
LOCATION:Sebastiani Theatre\, 476 1st St E\, Sonoma\, CA\, 95476\, United States
CATEGORIES:Performances
ATTACH;FMTTYPE=image/jpeg:https://dancersgroup.org/wp-content/uploads/2026/03/LunaEng.jpg
ORGANIZER;CN="Sonoma Conservatory of Dance":MAILTO:info@sonomaconservatoryofdance.org
END:VEVENT
END:VCALENDAR