BEGIN:VCALENDAR
VERSION:2.0
PRODID:-//Dancers&#039; Group - ECPv6.15.20//NONSGML v1.0//EN
CALSCALE:GREGORIAN
METHOD:PUBLISH
X-ORIGINAL-URL:https://dancersgroup.org
X-WR-CALDESC:Events for Dancers&#039; Group
REFRESH-INTERVAL;VALUE=DURATION:PT1H
X-Robots-Tag:noindex
X-PUBLISHED-TTL:PT1H
BEGIN:VTIMEZONE
TZID:America/Los_Angeles
BEGIN:DAYLIGHT
TZOFFSETFROM:-0800
TZOFFSETTO:-0700
TZNAME:PDT
DTSTART:20250309T100000
END:DAYLIGHT
BEGIN:STANDARD
TZOFFSETFROM:-0700
TZOFFSETTO:-0800
TZNAME:PST
DTSTART:20251102T090000
END:STANDARD
BEGIN:DAYLIGHT
TZOFFSETFROM:-0800
TZOFFSETTO:-0700
TZNAME:PDT
DTSTART:20260308T100000
END:DAYLIGHT
BEGIN:STANDARD
TZOFFSETFROM:-0700
TZOFFSETTO:-0800
TZNAME:PST
DTSTART:20261101T090000
END:STANDARD
BEGIN:DAYLIGHT
TZOFFSETFROM:-0800
TZOFFSETTO:-0700
TZNAME:PDT
DTSTART:20270314T100000
END:DAYLIGHT
BEGIN:STANDARD
TZOFFSETFROM:-0700
TZOFFSETTO:-0800
TZNAME:PST
DTSTART:20271107T090000
END:STANDARD
END:VTIMEZONE
BEGIN:VEVENT
DTSTART;TZID=America/Los_Angeles:20260503T100000
DTEND;TZID=America/Los_Angeles:20260503T110000
DTSTAMP:20260422T052710
CREATED:20260417T191304Z
LAST-MODIFIED:20260417T191304Z
UID:10028405-1777802400-1777806000@dancersgroup.org
SUMMARY:Small Shifts\, Big Changes: Less Tension\, More Ease
DESCRIPTION:Discover how small\, gentle changes in how you move can create powerful shifts in how you feel. \nIn this guided class\, you’ll explore slow\, mindful movement to release tension\, improve coordination\, and move with greater ease. Rooted in Feldenkrais-inspired principles\, this approach helps you become more aware of your patterns so you can change them with less effort. \nLeave feeling calmer\, lighter\, and more connected.
URL:https://dancersgroup.org/calendar/small-shifts-big-changes-less-tension-more-ease/
CATEGORIES:Classes/Workshops
ATTACH;FMTTYPE=image/png:https://dancersgroup.org/wp-content/uploads/2026/04/Copy-of-Getting-your-back-back-square.png
ORGANIZER;CN="Tamara Drossart":MAILTO:tamara.drossart@gmail.com
END:VEVENT
END:VCALENDAR