BEGIN:VCALENDAR
VERSION:2.0
PRODID:-//Dancers&#039; Group - ECPv6.15.20//NONSGML v1.0//EN
CALSCALE:GREGORIAN
METHOD:PUBLISH
X-WR-CALNAME:Dancers&#039; Group
X-ORIGINAL-URL:https://dancersgroup.org
X-WR-CALDESC:Events for Dancers&#039; Group
REFRESH-INTERVAL;VALUE=DURATION:PT1H
X-Robots-Tag:noindex
X-PUBLISHED-TTL:PT1H
BEGIN:VTIMEZONE
TZID:America/Los_Angeles
BEGIN:DAYLIGHT
TZOFFSETFROM:-0800
TZOFFSETTO:-0700
TZNAME:PDT
DTSTART:20250309T100000
END:DAYLIGHT
BEGIN:STANDARD
TZOFFSETFROM:-0700
TZOFFSETTO:-0800
TZNAME:PST
DTSTART:20251102T090000
END:STANDARD
BEGIN:DAYLIGHT
TZOFFSETFROM:-0800
TZOFFSETTO:-0700
TZNAME:PDT
DTSTART:20260308T100000
END:DAYLIGHT
BEGIN:STANDARD
TZOFFSETFROM:-0700
TZOFFSETTO:-0800
TZNAME:PST
DTSTART:20261101T090000
END:STANDARD
BEGIN:DAYLIGHT
TZOFFSETFROM:-0800
TZOFFSETTO:-0700
TZNAME:PDT
DTSTART:20270314T100000
END:DAYLIGHT
BEGIN:STANDARD
TZOFFSETFROM:-0700
TZOFFSETTO:-0800
TZNAME:PST
DTSTART:20271107T090000
END:STANDARD
END:VTIMEZONE
BEGIN:VEVENT
DTSTART;TZID=America/Los_Angeles:20260501T190000
DTEND;TZID=America/Los_Angeles:20260501T210000
DTSTAMP:20260422T053122
CREATED:20260413T172317Z
LAST-MODIFIED:20260413T172317Z
UID:10028364-1777662000-1777669200@dancersgroup.org
SUMMARY:Philippines Ifugao Living Traditions
DESCRIPTION:Parangal is excited once again to take part of Bay Area Dance Week! Participants will be able to get a glimpse of Ifugao Living Traditions through dance. \nThis learning is based on our 2020 immersion in Amganad\, Ifugao  and learnings from Yolanda Nagulman\, Ifugao Culture Bearer. \n“As you spread your arms wide\, you become an eagle flying across the sky.” Yolanda Nagulman
URL:https://dancersgroup.org/calendar/philippines-ifugao-living-traditions/
LOCATION:Bay Area Ballet Conservatory\, 275 Wattis Way\, South San Francisco\, CA\, 94080\, United States
CATEGORIES:Classes/Workshops
ATTACH;FMTTYPE=image/jpeg:https://dancersgroup.org/wp-content/uploads/2026/04/Ifugao_Parangal.jpg
ORGANIZER;CN="Parangal Dance Company":MAILTO:PARANGALDANCE@GMAIL.COM
END:VEVENT
END:VCALENDAR