BEGIN:VCALENDAR
VERSION:2.0
PRODID:-//Dancers&#039; Group - ECPv6.15.20//NONSGML v1.0//EN
CALSCALE:GREGORIAN
METHOD:PUBLISH
X-WR-CALNAME:Dancers&#039; Group
X-ORIGINAL-URL:https://dancersgroup.org
X-WR-CALDESC:Events for Dancers&#039; Group
REFRESH-INTERVAL;VALUE=DURATION:PT1H
X-Robots-Tag:noindex
X-PUBLISHED-TTL:PT1H
BEGIN:VTIMEZONE
TZID:America/Los_Angeles
BEGIN:DAYLIGHT
TZOFFSETFROM:-0800
TZOFFSETTO:-0700
TZNAME:PDT
DTSTART:20250309T100000
END:DAYLIGHT
BEGIN:STANDARD
TZOFFSETFROM:-0700
TZOFFSETTO:-0800
TZNAME:PST
DTSTART:20251102T090000
END:STANDARD
BEGIN:DAYLIGHT
TZOFFSETFROM:-0800
TZOFFSETTO:-0700
TZNAME:PDT
DTSTART:20260308T100000
END:DAYLIGHT
BEGIN:STANDARD
TZOFFSETFROM:-0700
TZOFFSETTO:-0800
TZNAME:PST
DTSTART:20261101T090000
END:STANDARD
BEGIN:DAYLIGHT
TZOFFSETFROM:-0800
TZOFFSETTO:-0700
TZNAME:PDT
DTSTART:20270314T100000
END:DAYLIGHT
BEGIN:STANDARD
TZOFFSETFROM:-0700
TZOFFSETTO:-0800
TZNAME:PST
DTSTART:20271107T090000
END:STANDARD
END:VTIMEZONE
BEGIN:VEVENT
DTSTART;TZID=America/Los_Angeles:20260425T101500
DTEND;TZID=America/Los_Angeles:20260425T111500
DTSTAMP:20260421T145840
CREATED:20260316T173744Z
LAST-MODIFIED:20260316T192133Z
UID:10028094-1777112100-1777115700@dancersgroup.org
SUMMARY:Pre-Ballet class for ages 6-7
DESCRIPTION:Introduce your little dancer to a ballet class at Berkeley City Ballet! This class is for dancers ages 6-7 and is 60 minutes long. No ballet experience or clothing is necessary. We have ballet shoes that your little dancer can borrow\, if they don’t already have a pair!
URL:https://dancersgroup.org/calendar/pre-ballet-class-for-ages-6-7/
LOCATION:Berkeley City Ballet\, 1800 Dwight Way\, Berkeley\, CA\, 94703\, United States
CATEGORIES:Classes/Workshops
ATTACH;FMTTYPE=image/png:https://dancersgroup.org/wp-content/uploads/2026/03/BERKELEY-CITY-BALLET-Instagram-Post-1.png
END:VEVENT
BEGIN:VEVENT
DTSTART;TZID=America/Los_Angeles:20260425T121500
DTEND;TZID=America/Los_Angeles:20260425T130000
DTSTAMP:20260421T145840
CREATED:20260310T232847Z
LAST-MODIFIED:20260416T183732Z
UID:10028072-1777119300-1777122000@dancersgroup.org
SUMMARY:Pre-Ballet class for ages 4-5
DESCRIPTION:Introduce your little dancer to a ballet class at Berkeley City Ballet! This class is for dancers ages 4-5 and is 45 minutes long. No ballet experience or clothing is necessary. We have ballet shoes that your little dancer can borrow\, if they don’t already have a pair!
URL:https://dancersgroup.org/calendar/pre-ballet-class-for-ages-4-5/
LOCATION:Berkeley City Ballet\, 1800 Dwight Way\, Berkeley\, CA\, 94703\, United States
CATEGORIES:Classes/Workshops
ATTACH;FMTTYPE=image/png:https://dancersgroup.org/wp-content/uploads/2026/03/BERKELEY-CITY-BALLET-Instagram-Post.png
END:VEVENT
BEGIN:VEVENT
DTSTART;TZID=America/Los_Angeles:20260428T154500
DTEND;TZID=America/Los_Angeles:20260428T163000
DTSTAMP:20260421T145840
CREATED:20260316T175749Z
LAST-MODIFIED:20260316T192952Z
UID:10028095-1777391100-1777393800@dancersgroup.org
SUMMARY:Pre-Ballet class for ages 4-5
DESCRIPTION:Introduce your little dancer to a ballet class at Berkeley City Ballet! This class is for dancers ages 4-5 and is 45 minutes long. No ballet experience or clothing is necessary. We have ballet shoes that your little dancer can borrow\, if they don’t already have a pair!
URL:https://dancersgroup.org/calendar/pre-ballet-class-for-ages-4-5-2/
LOCATION:Berkeley City Ballet\, 1800 Dwight Way\, Berkeley\, CA\, 94703\, United States
CATEGORIES:Classes/Workshops
ATTACH;FMTTYPE=image/png:https://dancersgroup.org/wp-content/uploads/2026/03/BERKELEY-CITY-BALLET-Instagram-Post-2.png
END:VEVENT
BEGIN:VEVENT
DTSTART;TZID=America/Los_Angeles:20260428T183000
DTEND;TZID=America/Los_Angeles:20260428T200000
DTSTAMP:20260421T145840
CREATED:20260326T193527Z
LAST-MODIFIED:20260416T194307Z
UID:10028237-1777401000-1777406400@dancersgroup.org
SUMMARY:Beginning Adult Ballet for ages 14 and up
DESCRIPTION:Adults Ballet classes are for adults and teenage students ages 14 and up\, whether beginning\, or continuing their dance education. A complete ballet class including barre and center focusing on balance\, flexibility\, strength\, and technique.
URL:https://dancersgroup.org/calendar/beginning-adult-ballet-for-ages-14-and-up/
LOCATION:Berkeley City Ballet\, 1800 Dwight Way\, Berkeley\, CA\, 94703\, United States
CATEGORIES:Classes/Workshops
ATTACH;FMTTYPE=image/png:https://dancersgroup.org/wp-content/uploads/2026/03/BERKELEY-CITY-BALLET-Instagram-Post-3.png
END:VEVENT
BEGIN:VEVENT
DTSTART;TZID=America/Los_Angeles:20260430T153000
DTEND;TZID=America/Los_Angeles:20260430T163000
DTSTAMP:20260421T145840
CREATED:20260416T220152Z
LAST-MODIFIED:20260416T220152Z
UID:10028401-1777563000-1777566600@dancersgroup.org
SUMMARY:Pre-Ballet class for ages 6-7
DESCRIPTION:Introduce your little dancer to a ballet class at Berkeley City Ballet! This class is for dancers ages 6-7 and is 60 minutes long. No ballet experience or clothing is necessary. We have ballet shoes that your little dancer can borrow\, if they don’t already have a pair!
URL:https://dancersgroup.org/calendar/pre-ballet-class-for-ages-6-7-2/
LOCATION:Berkeley City Ballet\, 1800 Dwight Way\, Berkeley\, CA\, 94703\, United States
CATEGORIES:Classes/Workshops
ATTACH;FMTTYPE=image/png:https://dancersgroup.org/wp-content/uploads/2026/04/BERKELEY-CITY-BALLET-Instagram-Post.png
END:VEVENT
BEGIN:VEVENT
DTSTART;TZID=America/Los_Angeles:20260430T180000
DTEND;TZID=America/Los_Angeles:20260430T193000
DTSTAMP:20260421T145840
CREATED:20260326T194830Z
LAST-MODIFIED:20260416T194435Z
UID:10028242-1777572000-1777577400@dancersgroup.org
SUMMARY:Beginning Adult Ballet for ages 14 and up
DESCRIPTION:Adult Ballet classes are for adults and teenage students ages 14 and up\, whether beginning\, or continuing their dance education. A complete ballet class including barre and center focusing on balance\, flexibility\, strength\, and technique.
URL:https://dancersgroup.org/calendar/beginning-adult-ballet-for-ages-14-and-up-2/
LOCATION:Berkeley City Ballet\, 1800 Dwight Way\, Berkeley\, CA\, 94703\, United States
CATEGORIES:Classes/Workshops
ATTACH;FMTTYPE=image/png:https://dancersgroup.org/wp-content/uploads/2026/03/BERKELEY-CITY-BALLET-Instagram-Post-4.png
END:VEVENT
BEGIN:VEVENT
DTSTART;TZID=America/Los_Angeles:20260502T140000
DTEND;TZID=America/Los_Angeles:20260502T150000
DTSTAMP:20260421T145840
CREATED:20260409T211738Z
LAST-MODIFIED:20260409T211738Z
UID:10028346-1777730400-1777734000@dancersgroup.org
SUMMARY:Berkeley City Ballet's Spring Concert - Excerpts from Sleeping Beauty
DESCRIPTION:Join Berkeley City Ballet for our annual Spring Concert performance! This year’s performance will feature students from our Pre-Professional Program in class demonstrations\, excerpts from Sleeping Beauty\, and original works in jazz and contemporary dance. \nMay 2 & 3\, 2:00pm & 4:00pm\nBCB Studio Theater – 1800 Dwight Way Berkeley\, CA \n$25 Adults\, $20 Children under 12 \nTickets can be purchased at https://berkeleycityballet.org/spring-concert/
URL:https://dancersgroup.org/calendar/berkeley-city-ballets-spring-concert-excerpts-from-sleeping-beauty/2026-05-02/1/
LOCATION:Berkeley City Ballet\, 1800 Dwight Way\, Berkeley\, CA\, 94703\, United States
CATEGORIES:Performances
ATTACH;FMTTYPE=image/png:https://dancersgroup.org/wp-content/uploads/2026/04/2026-Program-Flyer_Color-single.png
END:VEVENT
BEGIN:VEVENT
DTSTART;TZID=America/Los_Angeles:20260502T160000
DTEND;TZID=America/Los_Angeles:20260502T170000
DTSTAMP:20260421T145840
CREATED:20260409T211738Z
LAST-MODIFIED:20260409T211738Z
UID:10028347-1777737600-1777741200@dancersgroup.org
SUMMARY:Berkeley City Ballet's Spring Concert - Excerpts from Sleeping Beauty
DESCRIPTION:Join Berkeley City Ballet for our annual Spring Concert performance! This year’s performance will feature students from our Pre-Professional Program in class demonstrations\, excerpts from Sleeping Beauty\, and original works in jazz and contemporary dance. \nMay 2 & 3\, 2:00pm & 4:00pm\nBCB Studio Theater – 1800 Dwight Way Berkeley\, CA \n$25 Adults\, $20 Children under 12 \nTickets can be purchased at https://berkeleycityballet.org/spring-concert/
URL:https://dancersgroup.org/calendar/berkeley-city-ballets-spring-concert-excerpts-from-sleeping-beauty/2026-05-02/2/
LOCATION:Berkeley City Ballet\, 1800 Dwight Way\, Berkeley\, CA\, 94703\, United States
CATEGORIES:Performances
ATTACH;FMTTYPE=image/png:https://dancersgroup.org/wp-content/uploads/2026/04/2026-Program-Flyer_Color-single.png
END:VEVENT
BEGIN:VEVENT
DTSTART;TZID=America/Los_Angeles:20260503T140000
DTEND;TZID=America/Los_Angeles:20260503T150000
DTSTAMP:20260421T145840
CREATED:20260409T211738Z
LAST-MODIFIED:20260409T211738Z
UID:10028348-1777816800-1777820400@dancersgroup.org
SUMMARY:Berkeley City Ballet's Spring Concert - Excerpts from Sleeping Beauty
DESCRIPTION:Join Berkeley City Ballet for our annual Spring Concert performance! This year’s performance will feature students from our Pre-Professional Program in class demonstrations\, excerpts from Sleeping Beauty\, and original works in jazz and contemporary dance. \nMay 2 & 3\, 2:00pm & 4:00pm\nBCB Studio Theater – 1800 Dwight Way Berkeley\, CA \n$25 Adults\, $20 Children under 12 \nTickets can be purchased at https://berkeleycityballet.org/spring-concert/
URL:https://dancersgroup.org/calendar/berkeley-city-ballets-spring-concert-excerpts-from-sleeping-beauty/2026-05-03/1/
LOCATION:Berkeley City Ballet\, 1800 Dwight Way\, Berkeley\, CA\, 94703\, United States
CATEGORIES:Performances
ATTACH;FMTTYPE=image/png:https://dancersgroup.org/wp-content/uploads/2026/04/2026-Program-Flyer_Color-single.png
END:VEVENT
BEGIN:VEVENT
DTSTART;TZID=America/Los_Angeles:20260503T160000
DTEND;TZID=America/Los_Angeles:20260503T170000
DTSTAMP:20260421T145840
CREATED:20260409T211738Z
LAST-MODIFIED:20260409T211738Z
UID:10028349-1777824000-1777827600@dancersgroup.org
SUMMARY:Berkeley City Ballet's Spring Concert - Excerpts from Sleeping Beauty
DESCRIPTION:Join Berkeley City Ballet for our annual Spring Concert performance! This year’s performance will feature students from our Pre-Professional Program in class demonstrations\, excerpts from Sleeping Beauty\, and original works in jazz and contemporary dance. \nMay 2 & 3\, 2:00pm & 4:00pm\nBCB Studio Theater – 1800 Dwight Way Berkeley\, CA \n$25 Adults\, $20 Children under 12 \nTickets can be purchased at https://berkeleycityballet.org/spring-concert/
URL:https://dancersgroup.org/calendar/berkeley-city-ballets-spring-concert-excerpts-from-sleeping-beauty/2026-05-03/2/
LOCATION:Berkeley City Ballet\, 1800 Dwight Way\, Berkeley\, CA\, 94703\, United States
CATEGORIES:Performances
ATTACH;FMTTYPE=image/png:https://dancersgroup.org/wp-content/uploads/2026/04/2026-Program-Flyer_Color-single.png
END:VEVENT
END:VCALENDAR