BEGIN:VCALENDAR
VERSION:2.0
PRODID:-//Dancers&#039; Group - ECPv6.15.20//NONSGML v1.0//EN
CALSCALE:GREGORIAN
METHOD:PUBLISH
X-WR-CALNAME:Dancers&#039; Group
X-ORIGINAL-URL:https://dancersgroup.org
X-WR-CALDESC:Events for Dancers&#039; Group
REFRESH-INTERVAL;VALUE=DURATION:PT1H
X-Robots-Tag:noindex
X-PUBLISHED-TTL:PT1H
BEGIN:VTIMEZONE
TZID:America/Los_Angeles
BEGIN:DAYLIGHT
TZOFFSETFROM:-0800
TZOFFSETTO:-0700
TZNAME:PDT
DTSTART:20250309T100000
END:DAYLIGHT
BEGIN:STANDARD
TZOFFSETFROM:-0700
TZOFFSETTO:-0800
TZNAME:PST
DTSTART:20251102T090000
END:STANDARD
BEGIN:DAYLIGHT
TZOFFSETFROM:-0800
TZOFFSETTO:-0700
TZNAME:PDT
DTSTART:20260308T100000
END:DAYLIGHT
BEGIN:STANDARD
TZOFFSETFROM:-0700
TZOFFSETTO:-0800
TZNAME:PST
DTSTART:20261101T090000
END:STANDARD
BEGIN:DAYLIGHT
TZOFFSETFROM:-0800
TZOFFSETTO:-0700
TZNAME:PDT
DTSTART:20270314T100000
END:DAYLIGHT
BEGIN:STANDARD
TZOFFSETFROM:-0700
TZOFFSETTO:-0800
TZNAME:PST
DTSTART:20271107T090000
END:STANDARD
END:VTIMEZONE
BEGIN:VEVENT
DTSTART;TZID=America/Los_Angeles:20260427T100000
DTEND;TZID=America/Los_Angeles:20260427T110000
DTSTAMP:20260421T052101
CREATED:20260410T173121Z
LAST-MODIFIED:20260413T175011Z
UID:10028356-1777284000-1777287600@dancersgroup.org
SUMMARY:Flamenco
DESCRIPTION:A fun beginning flamenco class which will introduce footwork\, arm movement\, and body percussion. \nThe class will cover basic technique and timed marking as well as the challenging art of speaking sound. \nFun for all ages.
URL:https://dancersgroup.org/calendar/flamenco/
LOCATION:DSG Studios\, 564 Monterey Blvd\, San Francisco\, CA\, 94127\, United States
CATEGORIES:Classes/Workshops
ATTACH;FMTTYPE=image/jpeg:https://dancersgroup.org/wp-content/uploads/2026/04/IMG_1013.jpeg
ORGANIZER;CN="Damien Alvarez Flamenco":MAILTO:DamienAlvarezDesign@gmail.com
END:VEVENT
END:VCALENDAR