BEGIN:VCALENDAR
VERSION:2.0
PRODID:-//Dancers&#039; Group - ECPv6.15.20//NONSGML v1.0//EN
CALSCALE:GREGORIAN
METHOD:PUBLISH
X-ORIGINAL-URL:https://dancersgroup.org
X-WR-CALDESC:Events for Dancers&#039; Group
REFRESH-INTERVAL;VALUE=DURATION:PT1H
X-Robots-Tag:noindex
X-PUBLISHED-TTL:PT1H
BEGIN:VTIMEZONE
TZID:America/Los_Angeles
BEGIN:DAYLIGHT
TZOFFSETFROM:-0800
TZOFFSETTO:-0700
TZNAME:PDT
DTSTART:20250309T100000
END:DAYLIGHT
BEGIN:STANDARD
TZOFFSETFROM:-0700
TZOFFSETTO:-0800
TZNAME:PST
DTSTART:20251102T090000
END:STANDARD
BEGIN:DAYLIGHT
TZOFFSETFROM:-0800
TZOFFSETTO:-0700
TZNAME:PDT
DTSTART:20260308T100000
END:DAYLIGHT
BEGIN:STANDARD
TZOFFSETFROM:-0700
TZOFFSETTO:-0800
TZNAME:PST
DTSTART:20261101T090000
END:STANDARD
BEGIN:DAYLIGHT
TZOFFSETFROM:-0800
TZOFFSETTO:-0700
TZNAME:PDT
DTSTART:20270314T100000
END:DAYLIGHT
BEGIN:STANDARD
TZOFFSETFROM:-0700
TZOFFSETTO:-0800
TZNAME:PST
DTSTART:20271107T090000
END:STANDARD
END:VTIMEZONE
BEGIN:VEVENT
DTSTART;TZID=America/Los_Angeles:20260426T140000
DTEND;TZID=America/Los_Angeles:20260426T150000
DTSTAMP:20260422T041301
CREATED:20260409T192952Z
LAST-MODIFIED:20260420T225244Z
UID:10028344-1777212000-1777215600@dancersgroup.org
SUMMARY:Introduction to Bharata Natyam\, South Indian Classical Dance
DESCRIPTION:All ages! 6 through ….adults! An introductory lesson in the beginning steps and hand gestures ( mudras) \, as well as history of the style\,  as well as other styles of Indian dance. We will be dancing and taking short breaks inbetween for history and mudra lessons. Come prepared to dance barefoot and in comfortable clothes\, loose cotton Indian pajamas or leggings ok too!  Be ready to stretch and sweat a little too.
URL:https://dancersgroup.org/calendar/introduction-to-bharata-natyam-south-indian-classical-dance/
LOCATION:Knights of Columbus\, 167 Tunstead Avenue\, San Anselmo\, 94960\, United States
CATEGORIES:Classes/Workshops
ATTACH;FMTTYPE=image/jpeg:https://dancersgroup.org/wp-content/uploads/2026/04/PHOTO-2026-04-20-14-03-45.jpg
ORGANIZER;CN="Odissi Vilas &amp%3B Saraswati Kala Nilaya":MAILTO:barbaraframm@gmail.com
END:VEVENT
BEGIN:VEVENT
DTSTART;TZID=America/Los_Angeles:20260430T173000
DTEND;TZID=America/Los_Angeles:20260430T183000
DTSTAMP:20260422T041301
CREATED:20260406T194557Z
LAST-MODIFIED:20260406T194749Z
UID:10028314-1777570200-1777573800@dancersgroup.org
SUMMARY:The Art of Gesture: Central Asian & Persian-Inspired Dance
DESCRIPTION:This women-centered\, communal class explores the expressive dances of Central Asia and Persian-inspired traditions. Students explore full-body expression through the fingertips\, combining rhythmic footwork\, musical storytelling\, contemporary flow\, and embodied technique. Classes emphasize alignment\, coordination\, and nervous system awareness. All levels welcome. Led by Tara Pandeya\, who performed with Tajikistan’s National Ensemble Lola\, toured as a Cirque du Soleil soloist\, and teaches for LINES Ballet BFA at Dominican University. \n\n 
URL:https://dancersgroup.org/calendar/the-art-of-gesture-central-asian-persian-inspired-dance/
LOCATION:Knights of Columbus\, 167 Tunstead Avenue\, San Anselmo\, 94960\, United States
CATEGORIES:Classes/Workshops
ATTACH;FMTTYPE=image/jpeg:https://dancersgroup.org/wp-content/uploads/2026/04/DSC_0430.jpg
ORGANIZER;CN="Tara Pandeya":MAILTO:taradance@gmail.com
END:VEVENT
END:VCALENDAR