BEGIN:VCALENDAR
VERSION:2.0
PRODID:-//Dancers&#039; Group - ECPv6.15.20//NONSGML v1.0//EN
CALSCALE:GREGORIAN
METHOD:PUBLISH
X-ORIGINAL-URL:https://dancersgroup.org
X-WR-CALDESC:Events for Dancers&#039; Group
REFRESH-INTERVAL;VALUE=DURATION:PT1H
X-Robots-Tag:noindex
X-PUBLISHED-TTL:PT1H
BEGIN:VTIMEZONE
TZID:America/Los_Angeles
BEGIN:DAYLIGHT
TZOFFSETFROM:-0800
TZOFFSETTO:-0700
TZNAME:PDT
DTSTART:20250309T100000
END:DAYLIGHT
BEGIN:STANDARD
TZOFFSETFROM:-0700
TZOFFSETTO:-0800
TZNAME:PST
DTSTART:20251102T090000
END:STANDARD
BEGIN:DAYLIGHT
TZOFFSETFROM:-0800
TZOFFSETTO:-0700
TZNAME:PDT
DTSTART:20260308T100000
END:DAYLIGHT
BEGIN:STANDARD
TZOFFSETFROM:-0700
TZOFFSETTO:-0800
TZNAME:PST
DTSTART:20261101T090000
END:STANDARD
BEGIN:DAYLIGHT
TZOFFSETFROM:-0800
TZOFFSETTO:-0700
TZNAME:PDT
DTSTART:20270314T100000
END:DAYLIGHT
BEGIN:STANDARD
TZOFFSETFROM:-0700
TZOFFSETTO:-0800
TZNAME:PST
DTSTART:20271107T090000
END:STANDARD
END:VTIMEZONE
BEGIN:VEVENT
DTSTART;TZID=America/Los_Angeles:20260426T010000
DTEND;TZID=America/Los_Angeles:20260426T141500
DTSTAMP:20260421T054207
CREATED:20260413T192042Z
LAST-MODIFIED:20260413T192520Z
UID:10028359-1777165200-1777212900@dancersgroup.org
SUMMARY:Jazz Funk with Mecca Boutte
DESCRIPTION:The Jazz class will combine elements of contemporary dance\, ballet techniques\, and African derived dance moves (such as isolations\, torso\, etc.) all levels are welcome. Mecca studied dance at Spelman College in Atlanta\, GA.
URL:https://dancersgroup.org/calendar/jazz-funk-with-mecca-boutte/
LOCATION:Malonga Casquelourd Center for the Arts\, 1428 Alice St.\, Oakland\, CA\, 94612\, United States
CATEGORIES:Classes/Workshops
ATTACH;FMTTYPE=image/png:https://dancersgroup.org/wp-content/uploads/2026/04/Mecca-Square-BaY-Area-Dance-Week-2026.png
ORGANIZER;CN="Dimensions Dance Theater":MAILTO:dimensionsdance@prodigy.net
END:VEVENT
BEGIN:VEVENT
DTSTART;TZID=America/Los_Angeles:20260426T110000
DTEND;TZID=America/Los_Angeles:20260426T123000
DTSTAMP:20260421T054207
CREATED:20260413T190410Z
LAST-MODIFIED:20260413T191632Z
UID:10028358-1777201200-1777206600@dancersgroup.org
SUMMARY:Rumba with Royland Lobato
DESCRIPTION:Rumba is a secular genre of Cuban music involving dance\, percussion\, and song. It originated in the northern regions of Cuba. In this class\, students will explore different levels of Rumba movement.
URL:https://dancersgroup.org/calendar/rumba-with-royland-lobato/
LOCATION:Malonga Casquelourd Center for the Arts\, 1428 Alice St.\, Oakland\, CA\, 94612\, United States
CATEGORIES:Classes/Workshops
ATTACH;FMTTYPE=image/png:https://dancersgroup.org/wp-content/uploads/2026/04/Royland-Square-BaY-Area-Dance-Week-2026.png
ORGANIZER;CN="Dimensions Dance Theater":MAILTO:dimensionsdance@prodigy.net
END:VEVENT
BEGIN:VEVENT
DTSTART;TZID=America/Los_Angeles:20260426T143000
DTEND;TZID=America/Los_Angeles:20260426T154500
DTSTAMP:20260421T054207
CREATED:20260413T192621Z
LAST-MODIFIED:20260413T192914Z
UID:10028360-1777213800-1777218300@dancersgroup.org
SUMMARY:Hip Hop with Ebonie Barnett
DESCRIPTION:Deeper dive in the roots of hip hop and the African Diaspora. Liberate your spine and pelvis by focusing on many different isolations\, undulations\, tick tocks\, and body rolls. This class will help you find your center and groove while moving to music birthed locally in the Bay Area and globally. 
URL:https://dancersgroup.org/calendar/hip-hop-with-ebonie-barnett/
LOCATION:Malonga Casquelourd Center for the Arts\, 1428 Alice St.\, Oakland\, CA\, 94612\, United States
CATEGORIES:Classes/Workshops
ATTACH;FMTTYPE=image/png:https://dancersgroup.org/wp-content/uploads/2026/04/Ebonie-Square-BaY-Area-Dance-Week-2026.png
ORGANIZER;CN="Dimensions Dance Theater":MAILTO:dimensionsdance@prodigy.net
END:VEVENT
BEGIN:VEVENT
DTSTART;TZID=America/Los_Angeles:20260426T160000
DTEND;TZID=America/Los_Angeles:20260426T173000
DTSTAMP:20260421T054207
CREATED:20260413T192956Z
LAST-MODIFIED:20260413T193214Z
UID:10028361-1777219200-1777224600@dancersgroup.org
SUMMARY:Guinea Dance with Alseny Soumah
DESCRIPTION:Students will explore all levels of Guinea dance movement with live drumming. \n 
URL:https://dancersgroup.org/calendar/guinea-dance-with-alseny-soumah/
LOCATION:Malonga Casquelourd Center for the Arts\, 1428 Alice St.\, Oakland\, CA\, 94612\, United States
CATEGORIES:Classes/Workshops
ATTACH;FMTTYPE=image/png:https://dancersgroup.org/wp-content/uploads/2026/04/Alseny-Square-BaY-Area-Dance-Week-2026.png
ORGANIZER;CN="Dimensions Dance Theater":MAILTO:dimensionsdance@prodigy.net
END:VEVENT
BEGIN:VEVENT
DTSTART;TZID=America/Los_Angeles:20260429T193000
DTEND;TZID=America/Los_Angeles:20260429T210000
DTSTAMP:20260421T054207
CREATED:20260413T193354Z
LAST-MODIFIED:20260413T193649Z
UID:10028363-1777491000-1777496400@dancersgroup.org
SUMMARY:Here We Go Again: African to Hip Hop w/ Latanya d. Tigner
DESCRIPTION:The workshop will begin with a warm up\, incorporating Talawa Technique™\, designed to familiarize participants with Bantu and Mande (and their subgroups) religious and social dances of Central and West African regions.  Participants will then depart from the continent on a journey\, mapping locations along the transatlantic slave trade through specific movements that fluidly transition into the identities and cultures of Africana people along the way.  Final stop\, African American social dance. 
URL:https://dancersgroup.org/calendar/here-we-go-again-african-to-hip-hop-w-latanya-d-tigner/
LOCATION:Malonga Casquelourd Center for the Arts\, 1428 Alice St.\, Oakland\, CA\, 94612\, United States
CATEGORIES:Classes/Workshops
ATTACH;FMTTYPE=image/png:https://dancersgroup.org/wp-content/uploads/2026/04/Latanya-d.-Square-BaY-Area-Dance-Week-2026.png
ORGANIZER;CN="Dimensions Dance Theater":MAILTO:dimensionsdance@prodigy.net
END:VEVENT
BEGIN:VEVENT
DTSTART;TZID=America/Los_Angeles:20260430T190000
DTEND;TZID=America/Los_Angeles:20260430T203000
DTSTAMP:20260421T054207
CREATED:20260413T193800Z
LAST-MODIFIED:20260413T193800Z
UID:10028368-1777575600-1777581000@dancersgroup.org
SUMMARY:Straight from the D: Detroit Social Dances
DESCRIPTION:Detroit Ballroom a.k.a. Motown Style Ballroom has been danced for decades in Detroit. Its roots are based in the Cha-Cha dance combined with various elements of Ballroom Dance viewed at the Greystone Ballroom (1922-1972) in Detroit\, MI. It is a social partner dance that when combined with sounds of Jazz\, Rhythm and Blues or Neo Soul displays the current form of turns\, glides\, shuffles and more. The Graystone dance is used as a starter\, before opening up into the Detroit Ballroom. However\, Graystone is its own dance that is a 4 count of steps and touches but can include glides\, drags and turns.
URL:https://dancersgroup.org/calendar/straight-from-the-d-detroit-social-dances/
LOCATION:Malonga Casquelourd Center for the Arts\, 1428 Alice St.\, Oakland\, CA\, 94612\, United States
CATEGORIES:Classes/Workshops
ATTACH;FMTTYPE=image/png:https://dancersgroup.org/wp-content/uploads/2026/04/LaKiesha-Square-BaY-Area-Dance-Week-2026.png
ORGANIZER;CN="Dimensions Dance Theater":MAILTO:dimensionsdance@prodigy.net
END:VEVENT
END:VCALENDAR