BEGIN:VCALENDAR
VERSION:2.0
PRODID:-//Dancers&#039; Group - ECPv6.15.20//NONSGML v1.0//EN
CALSCALE:GREGORIAN
METHOD:PUBLISH
X-WR-CALNAME:Dancers&#039; Group
X-ORIGINAL-URL:https://dancersgroup.org
X-WR-CALDESC:Events for Dancers&#039; Group
REFRESH-INTERVAL;VALUE=DURATION:PT1H
X-Robots-Tag:noindex
X-PUBLISHED-TTL:PT1H
BEGIN:VTIMEZONE
TZID:America/Los_Angeles
BEGIN:DAYLIGHT
TZOFFSETFROM:-0800
TZOFFSETTO:-0700
TZNAME:PDT
DTSTART:20250309T100000
END:DAYLIGHT
BEGIN:STANDARD
TZOFFSETFROM:-0700
TZOFFSETTO:-0800
TZNAME:PST
DTSTART:20251102T090000
END:STANDARD
BEGIN:DAYLIGHT
TZOFFSETFROM:-0800
TZOFFSETTO:-0700
TZNAME:PDT
DTSTART:20260308T100000
END:DAYLIGHT
BEGIN:STANDARD
TZOFFSETFROM:-0700
TZOFFSETTO:-0800
TZNAME:PST
DTSTART:20261101T090000
END:STANDARD
BEGIN:DAYLIGHT
TZOFFSETFROM:-0800
TZOFFSETTO:-0700
TZNAME:PDT
DTSTART:20270314T100000
END:DAYLIGHT
BEGIN:STANDARD
TZOFFSETFROM:-0700
TZOFFSETTO:-0800
TZNAME:PST
DTSTART:20271107T090000
END:STANDARD
END:VTIMEZONE
BEGIN:VEVENT
DTSTART;TZID=America/Los_Angeles:20260508T190000
DTEND;TZID=America/Los_Angeles:20260508T200000
DTSTAMP:20260423T034651
CREATED:20260226T223713Z
LAST-MODIFIED:20260226T223713Z
UID:10027994-1778266800-1778270400@dancersgroup.org
SUMMARY:Steamroller Dance Company with The Singers of the Street in "Bespoke"
DESCRIPTION:An immersive musical that envelopes the viewer from the beginning in an auditory\, visceral experience with dancers guiding the audience in a pastiche of musical genres where the audience is able to participate in a playful tribute to the American musical. This performance also spotlights the first time collaboration between the company and local community choir Singers of The Street\, a group of Bay Area singers\, artists and musicians who are homeless\, formerly homeless and advocates for the homeless. Singers of The Street is led by director Ben DeShazo Couchot.
URL:https://dancersgroup.org/calendar/steamroller-dance-company-with-the-singers-of-the-street-in-bespoke/
LOCATION:Masonic Lodge Banquet Room\, 169 Bartlett St\, San Francisco\, 94110\, United States
CATEGORIES:Performances
ATTACH;FMTTYPE=image/jpeg:https://dancersgroup.org/wp-content/uploads/2026/02/Steamroller_with_Singers_of_the_Street.jpg
ORGANIZER;CN="San Francisco International Arts Festival":MAILTO:info@sfiaf.org
END:VEVENT
END:VCALENDAR